BEGIN:VCALENDAR
VERSION:2.0
PRODID:-//Association AMAFEM - ECPv5.12.3//NONSGML v1.0//EN
CALSCALE:GREGORIAN
METHOD:PUBLISH
X-WR-CALNAME:Association AMAFEM
X-ORIGINAL-URL:https://amafem.org
X-WR-CALDESC:Events for Association AMAFEM
REFRESH-INTERVAL;VALUE=DURATION:PT1H
X-Robots-Tag:noindex
X-PUBLISHED-TTL:PT1H
BEGIN:VTIMEZONE
TZID:Europe/Paris
BEGIN:DAYLIGHT
TZOFFSETFROM:+0100
TZOFFSETTO:+0200
TZNAME:CEST
DTSTART:20240331T010000
END:DAYLIGHT
BEGIN:STANDARD
TZOFFSETFROM:+0200
TZOFFSETTO:+0100
TZNAME:CET
DTSTART:20241027T010000
END:STANDARD
END:VTIMEZONE
BEGIN:VEVENT
DTSTART;TZID=Europe/Paris:20240420T080000
DTEND;TZID=Europe/Paris:20240421T170000
DTSTAMP:20260421T174816
CREATED:20250307T125655Z
LAST-MODIFIED:20250307T125742Z
UID:2494-1713600000-1713718800@amafem.org
SUMMARY:Organisation d’une randonnée à Zaouiate Ahansal
DESCRIPTION:×organisation d’une randonnée à Zaouiate Ahansal et rencontre avec le directeur et professeurs du collège-lycée Zaouit Ahansal.
URL:https://amafem.org/event/organisation-dune-randonnee-a-zaouiate-ahansal/
CATEGORIES:Activités scientifiques
ATTACH;FMTTYPE=image/jpeg:https://amafem.org/wp-content/uploads/2025/03/4.jpg
END:VEVENT
END:VCALENDAR