BEGIN:VCALENDAR
VERSION:2.0
PRODID:-//Association AMAFEM - ECPv5.12.3//NONSGML v1.0//EN
CALSCALE:GREGORIAN
METHOD:PUBLISH
X-WR-CALNAME:Association AMAFEM
X-ORIGINAL-URL:https://amafem.org
X-WR-CALDESC:Events for Association AMAFEM
REFRESH-INTERVAL;VALUE=DURATION:PT1H
X-Robots-Tag:noindex
X-PUBLISHED-TTL:PT1H
BEGIN:VTIMEZONE
TZID:Europe/Paris
BEGIN:DAYLIGHT
TZOFFSETFROM:+0100
TZOFFSETTO:+0200
TZNAME:CEST
DTSTART:20240331T010000
END:DAYLIGHT
BEGIN:STANDARD
TZOFFSETFROM:+0200
TZOFFSETTO:+0100
TZNAME:CET
DTSTART:20241027T010000
END:STANDARD
END:VTIMEZONE
BEGIN:VEVENT
DTSTART;TZID=Europe/Paris:20240215T080000
DTEND;TZID=Europe/Paris:20240215T170000
DTSTAMP:20260422T002858
CREATED:20250307T124159Z
LAST-MODIFIED:20250307T124159Z
UID:2484-1707984000-1708016400@amafem.org
SUMMARY:Conférence sur la Méthode de Monte Carlo\, Pr. N. Soukher
DESCRIPTION:×Conférence sur la Méthode de Monte Carlo\, Pr. N. Soukher
URL:https://amafem.org/event/conference-sur-la-methode-de-monte-carlo-pr-n-soukher/
CATEGORIES:Activités scientifiques
END:VEVENT
END:VCALENDAR