BEGIN:VCALENDAR
VERSION:2.0
PRODID:-//Association AMAFEM - ECPv5.12.3//NONSGML v1.0//EN
CALSCALE:GREGORIAN
METHOD:PUBLISH
X-WR-CALNAME:Association AMAFEM
X-ORIGINAL-URL:https://amafem.org
X-WR-CALDESC:Events for Association AMAFEM
REFRESH-INTERVAL;VALUE=DURATION:PT1H
X-Robots-Tag:noindex
X-PUBLISHED-TTL:PT1H
BEGIN:VTIMEZONE
TZID:Europe/Paris
BEGIN:DAYLIGHT
TZOFFSETFROM:+0100
TZOFFSETTO:+0200
TZNAME:CEST
DTSTART:20220327T010000
END:DAYLIGHT
BEGIN:STANDARD
TZOFFSETFROM:+0200
TZOFFSETTO:+0100
TZNAME:CET
DTSTART:20221030T010000
END:STANDARD
END:VTIMEZONE
BEGIN:VEVENT
DTSTART;VALUE=DATE:20220316
DTEND;VALUE=DATE:20220317
DTSTAMP:20260424T162717
CREATED:20220125T231142Z
LAST-MODIFIED:20220217T151241Z
UID:2344-1647388800-1647475199@amafem.org
SUMMARY:JIM'22: 2ème édition de la Journée Internationale des Mathématiques
DESCRIPTION:La journée du 14 Mars (Pi-day) a été adoptée\, Journée Internationale des Mathématiques (JIM)\, par le Conseil Exécutif de l’UNESCO lors de sa 205 ème séance en octobre 2018. (Pi-Day) a été proclamée le 25 novembre 2019 lors de la 40e Conférence générale de l’UNESCO. \nProclamation d’une Journée internationale des mathématiques \nInternational Day of Mathematics (IDM) \nLe 25 Mars 2020\, Nous célébrons la JIM’20\, à l’Ecole Hassania des Travaux Publics\, sous la thématique \n\nLes mathématiques sont partout dans l’organisation de la civilisation.\n\nDepuis 2018\, les thématiques proposées par l’UMI\, ont fait l’objet de nos activités. Le rôle des sciences dans réalisation des objectifs du développement durable\, était le thème choisi par l’équipe lors du 8 Mars 2018. En 2019 la thématique était « Autour des Mathématiques » \nNous remercions la professeure Christiane Rousseau de nous avoir donné l’occasion pour soutenir le comité de l’UMI chargé de la proclamation du 14 mars comme Journée internationale des mathématiques. Pour exprimer l’importance des mathématiques. Selon elle : \n« Les mathématiques font partie du bagage de l’humanité depuis les temps anciens. De nos jours\, les mathématiques ont atteint un tel degré de sophistication que leur omniprésence dans notre vie quotidienne passe inaperçue. On peut dire que « les mathématiques sont partout »\, ce qui est le thème de la première JIM 2020 »\, Prof. Christiane Rousseau\, Université de Montréal\, initiatrice du projet de JIM pour l’IMU. \nLors de cette journée\, ouverte au public. Nous allons mettre en évidence quelques domaines des mathématiques et leur rôle dans toutes les sciences et techniques scientifiques aujourd’hui incontournables dans l’organisation de la civilisation\, que ce soit en sociologie\, en économie \, dans le traitement des problèmes de santé publique et ceux de la météorologie et climatologie. \nNous allons discuter\, avec d’imminents professeurs des domaines mathématiques en épidémiologie (sujet d’actualité) en sciences humaines et sociales\, en météorologie & climatologie. \nCOMITE D’ORGANISATION \n\nPr. Yamna GHABBAR\, EHTP\, Présidente AMAFEM\nPr. Noureddine SEMANE\, EHTP\nPr. Salem NAFIRI\, EHTP\nPr. Amina FACHAR\, Secrétaire Générale AMAFEM\nPr. Noura YOUSFI\, Vice Présidente AMAFEM et Vice Doyenne de Recherche à FSBM\nPr. Dalila LOUDYI\, FST Mohammédia\n\nCOMITE SCIENTIFIQUE \n\nPr. Yamna GHABBAR\nPr. Noureddine SEMANE\nPr. Salem NAFIRIPr. Noura YOUSFI\n\nCOMITÉ DOCTORANTS: \n\nMokhliss El-azaar\nImane Essadeq\nAnouar Fettouh
URL:https://amafem.org/event/jim22-2eme-edition-de-la-journee-internationale-des-mathematiques/
LOCATION:l’Ecole Hassania des Travaux Publics\, Km 7 Route d'El Jadida BP 8108\, Casablanca\, Morocco
CATEGORIES:Activités scientifiques
ATTACH;FMTTYPE=image/jpeg:https://amafem.org/wp-content/uploads/2022/01/245845381_1259941007762473_8954890169293539592_n.jpg
END:VEVENT
END:VCALENDAR