BEGIN:VCALENDAR
VERSION:2.0
PRODID:-//Association AMAFEM - ECPv5.12.3//NONSGML v1.0//EN
CALSCALE:GREGORIAN
METHOD:PUBLISH
X-WR-CALNAME:Association AMAFEM
X-ORIGINAL-URL:https://amafem.org
X-WR-CALDESC:Events for Association AMAFEM
REFRESH-INTERVAL;VALUE=DURATION:PT1H
X-Robots-Tag:noindex
X-PUBLISHED-TTL:PT1H
BEGIN:VTIMEZONE
TZID:Europe/Paris
BEGIN:DAYLIGHT
TZOFFSETFROM:+0100
TZOFFSETTO:+0200
TZNAME:CEST
DTSTART:20200329T010000
END:DAYLIGHT
BEGIN:STANDARD
TZOFFSETFROM:+0200
TZOFFSETTO:+0100
TZNAME:CET
DTSTART:20201025T010000
END:STANDARD
END:VTIMEZONE
BEGIN:VEVENT
DTSTART;TZID=Europe/Paris:20200313T080000
DTEND;TZID=Europe/Paris:20200313T170000
DTSTAMP:20260425T232724
CREATED:20250307T130413Z
LAST-MODIFIED:20250307T130413Z
UID:2500-1584086400-1584118800@amafem.org
SUMMARY:Activités durant COVID 2020
DESCRIPTION:×\n12 December 2020: « Assimilation des données et Filtre de Kalman« \, (M. Lazaar)\n28 November 2020:  » Science de modélisation et applications« \, (S. Nafiri)\n14 November 2020: « Comportement spectral avec différents conditions au bord\, d’un système thermoélastique avec couplage fort« \, (A.F. Essadat)\n26 June 2020: « Two scale convergence of thermoelasticity« \, 23rd Internet Seminar « Evolutionary Equations » (S. Nafiri)\n26 June 2020: « Homogenization of thermoelasticity« \, 23rd Internet Seminar « Evolutionary Equations »\, (I. Essadeq)\n4 June 2020: « Modèle de Lorenz\, part 2« \, (N. Semane)\n27 May 2020: « Systèmes dynamiques chaotiques\, part 1″\, (N. Semane)\n20 May 2020: « Control of thermoelasticity\, part 2 » (S. Nafiri)\n13 May 2020: « Control of thermoelasticity\, part 1 » (S. Nafiri)\n6 May 2020: « Modélisation mathématiques en épidémiologie« \, (Pr. Y. Ghabbar)\n29 April 2020: « Comportement asymptotique du spectre d’un opérateur associé à un systeme thermoélastique faiblement couplé« \, (A. E. Fettouh)\n22 April 2020: « Décroissance de l’énergie des systèmes Thermoélastiques linéaires Sous différentes conditions aux limites« \, (I. Essadeq)\n13 April 2020: « Paramétrisation de la convection dans les modèles météorologiques« \, (M. El-azaar)\n6 May 2020: Séminaire en ligne « Modélisation mathématiques en épidémiologie »\, (Pr. Y. Ghabbar)
URL:https://amafem.org/event/activites-durant-covid-2020/
CATEGORIES:Activités scientifiques
END:VEVENT
END:VCALENDAR