BEGIN:VCALENDAR
VERSION:2.0
PRODID:-//Association AMAFEM - ECPv5.12.3//NONSGML v1.0//EN
CALSCALE:GREGORIAN
METHOD:PUBLISH
X-WR-CALNAME:Association AMAFEM
X-ORIGINAL-URL:https://amafem.org
X-WR-CALDESC:Events for Association AMAFEM
REFRESH-INTERVAL;VALUE=DURATION:PT1H
X-Robots-Tag:noindex
X-PUBLISHED-TTL:PT1H
BEGIN:VTIMEZONE
TZID:Europe/Paris
BEGIN:DAYLIGHT
TZOFFSETFROM:+0100
TZOFFSETTO:+0200
TZNAME:CEST
DTSTART:20220327T010000
END:DAYLIGHT
BEGIN:STANDARD
TZOFFSETFROM:+0200
TZOFFSETTO:+0100
TZNAME:CET
DTSTART:20221030T010000
END:STANDARD
BEGIN:DAYLIGHT
TZOFFSETFROM:+0100
TZOFFSETTO:+0200
TZNAME:CEST
DTSTART:20230326T010000
END:DAYLIGHT
BEGIN:STANDARD
TZOFFSETFROM:+0200
TZOFFSETTO:+0100
TZNAME:CET
DTSTART:20231029T010000
END:STANDARD
BEGIN:DAYLIGHT
TZOFFSETFROM:+0100
TZOFFSETTO:+0200
TZNAME:CEST
DTSTART:20240331T010000
END:DAYLIGHT
BEGIN:STANDARD
TZOFFSETFROM:+0200
TZOFFSETTO:+0100
TZNAME:CET
DTSTART:20241027T010000
END:STANDARD
END:VTIMEZONE
BEGIN:VEVENT
DTSTART;TZID=Europe/Paris:20220101T080000
DTEND;TZID=Europe/Paris:20241231T170000
DTSTAMP:20260421T084557
CREATED:20250307T131936Z
LAST-MODIFIED:20250307T132019Z
UID:2508-1641024000-1735664400@amafem.org
SUMMARY:Club de lecture
DESCRIPTION:×\n26 Novembre 2022 : Club de lecture autour du livre de F. Laaroui « Dieu\, Mathématiques\, la folie ».\n28 mars 2024 : un club de lecture autour du livre de J. Attali « la confrérie des éveillés ».\n19 avril 2024 : un club de lecture autour du livre de Siham Benchekroun « Chama ».\n28 septembre 2024 : un club de lecture autour du livre de Fouad Laaroui « Plaidoyer pour les arabes ».
URL:https://amafem.org/event/club-de-lecture/
CATEGORIES:Activités pédagogiques
ATTACH;FMTTYPE=image/jpeg:https://amafem.org/wp-content/uploads/2025/03/5.jpg
END:VEVENT
BEGIN:VEVENT
DTSTART;TZID=Europe/Paris:20240523T080000
DTEND;TZID=Europe/Paris:20240523T170000
DTSTAMP:20260421T084557
CREATED:20250307T132501Z
LAST-MODIFIED:20250307T132501Z
UID:2512-1716451200-1716483600@amafem.org
SUMMARY:l’enseignement des STIM
DESCRIPTION:×table ronde autour de l’enseignement des STIM\, Sciences technologies\, ingénierie et mathématiques\, à l’UM6P\, Benguerir.
URL:https://amafem.org/event/lenseignement-des-stim/
CATEGORIES:Activités pédagogiques
END:VEVENT
END:VCALENDAR