BEGIN:VCALENDAR
VERSION:2.0
PRODID:-//Association AMAFEM - ECPv5.12.3//NONSGML v1.0//EN
CALSCALE:GREGORIAN
METHOD:PUBLISH
X-WR-CALNAME:Association AMAFEM
X-ORIGINAL-URL:http://amafem.org
X-WR-CALDESC:Events for Association AMAFEM
REFRESH-INTERVAL;VALUE=DURATION:PT1H
X-Robots-Tag:noindex
X-PUBLISHED-TTL:PT1H
BEGIN:VTIMEZONE
TZID:Europe/Paris
BEGIN:DAYLIGHT
TZOFFSETFROM:+0100
TZOFFSETTO:+0200
TZNAME:CEST
DTSTART:20250330T010000
END:DAYLIGHT
BEGIN:STANDARD
TZOFFSETFROM:+0200
TZOFFSETTO:+0100
TZNAME:CET
DTSTART:20251026T010000
END:STANDARD
END:VTIMEZONE
BEGIN:VEVENT
DTSTART;VALUE=DATE:20250411
DTEND;VALUE=DATE:20250412
DTSTAMP:20260419T212047
CREATED:20250502T221316Z
LAST-MODIFIED:20250502T221322Z
UID:2531-1744329600-1744415999@amafem.org
SUMMARY:Conférence internationale de la statistique et de l'intelligence artificielle
DESCRIPTION:×La Conférence Internationale de la Statistique et de l’Intelligence Artificielle (CISIA’25)\, organisée par l’association AMAFEM en partenariat avec l’EST Fqih Ben Salah \, a réuni ce vendredi 11 avril 2025 un public passionné et des experts de haut niveau autour de sujets à la croisée des mathématiques et de l’intelligence artificielle. \nLes thématiques abordées : \n\n\nProbabilité appliquée et statistiques \n\n\nIntelligence artificielle (IA) \n\n\nSciences des données et Big Data \n\n\nModélisation stochastique \n\n\nEt bien d’autres domaines innovants \n\n\nChercheurs\, enseignants\, étudiants et professionnels ont partagé leurs travaux\, débattu d’idées nouvelles et ouvert des pistes de réflexion prometteuses pour le futur de la recherche scientifique. \nUne journée marquée par la rigueur scientifique\, l’échange intellectuel et l’ouverture interdisciplinaire\, dans une ambiance stimulante et conviviale.
URL:http://amafem.org/event/conference-internationale-de-la-statistique-et-de-lintelligence-artificielle/
CATEGORIES:Activités scientifiques
ATTACH;FMTTYPE=image/jpeg:http://amafem.org/wp-content/uploads/2025/05/494110502_2132586663831232_5031545760812927596_n.jpg
END:VEVENT
END:VCALENDAR