BEGIN:VCALENDAR
VERSION:2.0
PRODID:-//Association AMAFEM - ECPv5.12.3//NONSGML v1.0//EN
CALSCALE:GREGORIAN
METHOD:PUBLISH
X-WR-CALNAME:Association AMAFEM
X-ORIGINAL-URL:http://amafem.org
X-WR-CALDESC:Events for Association AMAFEM
REFRESH-INTERVAL;VALUE=DURATION:PT1H
X-Robots-Tag:noindex
X-PUBLISHED-TTL:PT1H
BEGIN:VTIMEZONE
TZID:Europe/Paris
BEGIN:DAYLIGHT
TZOFFSETFROM:+0100
TZOFFSETTO:+0200
TZNAME:CEST
DTSTART:20250330T010000
END:DAYLIGHT
BEGIN:STANDARD
TZOFFSETFROM:+0200
TZOFFSETTO:+0100
TZNAME:CET
DTSTART:20251026T010000
END:STANDARD
END:VTIMEZONE
BEGIN:VEVENT
DTSTART;VALUE=DATE:20250326
DTEND;VALUE=DATE:20250327
DTSTAMP:20260419T225519
CREATED:20250502T225157Z
LAST-MODIFIED:20250502T225157Z
UID:2543-1742947200-1743033599@amafem.org
SUMMARY:La ferme des animaux de  George Orwell
DESCRIPTION:×C’est autour de George Orwell\, que s’est tenue la deuxième édition\, du club de lecture de AMAFEM\, dans le mois Ramadan\, un débat très riche. Les grands classiques « La ferme des animaux » nous apprennent toujours sur notre monde.
URL:http://amafem.org/event/la-ferme-des-animaux-de-george-orwell/
CATEGORIES:Activités pédagogiques
ATTACH;FMTTYPE=image/jpeg:http://amafem.org/wp-content/uploads/2025/05/494268527_2132590833830815_1514941651943747207_n.jpg
END:VEVENT
END:VCALENDAR